BEGIN:VCALENDAR
VERSION:2.0
PRODID:-//Contratero//ES
CALSCALE:GREGORIAN
METHOD:PUBLISH
BEGIN:VEVENT
UID:PAS 15/2021@contratero.es
DTSTAMP:20260424T134930Z
DTSTART:20210910T235959
DTEND:20210911T005959
SUMMARY:Cierre: Actualización y mejora de la automatización del pr
DESCRIPTION:Actualización y mejora de la automatización del proceso de compostaje de la Planta de Tratamiento de Residuos Urbanos de VAESA sita en Villena (Alicante) así como el mantenimiento preventivo y correct...\\n\\nOrganismo: Valenciana d'Aprofitament Energètic de Residus S.A. (VAERSA)\\n\\nVer en Contratero: https://contratero.es/contracts/PAS 15/2021
URL:https://contratero.es/contracts/PAS 15/2021
STATUS:CONFIRMED
BEGIN:VALARM
TRIGGER:-P1D
ACTION:DISPLAY
DESCRIPTION:Recordatorio: Actualización y mejora de la a
END:VALARM
END:VEVENT
END:VCALENDAR